BEGIN:VCALENDAR
VERSION:2.0
PRODID:-//ChamberMaster//Event Calendar 2.0//EN
METHOD:PUBLISH
X-PUBLISHED-TTL:P3D
REFRESH-INTERVAL:P3D
CALSCALE:GREGORIAN
BEGIN:VEVENT
DTSTART:20200716T220000Z
DTEND:20200716T230000Z
X-MICROSOFT-CDO-ALLDAYEVENT:FALSE
SUMMARY:Roadmap to Recovery - Guidance for LA Small Businesses
DESCRIPTION:The LA SBDC is pleased to partner with LA County to detail reopening protocols and resources for small businesses. Each week in the 4-part series we'll focus on a different business type.\n\n\n\n*Office-Based Worksites   Thursday\, July 16
X-ALT-DESC;FMTTYPE=text/html:<span style="color: rgb(35\, 35\, 51)\; font-family: Lato\, Helvetica\, Arial\; font-size: 14px\;">The LA SBDC is pleased to partner with LA County to detail reopening protocols and resources for small businesses. Each week in the 4-part series we&#39\;ll focus on a different business type.</span><br />\n<br />\n<span style="color: rgb(35\, 35\, 51)\; font-family: Lato\, Helvetica\, Arial\; font-size: 14px\;">*Office-Based Worksites &ndash\; Thursday\, July 16</span><br />\n<br />\n&nbsp\;
LOCATION:REGISTER HERE
UID:e.2663.592
SEQUENCE:3
DTSTAMP:20260426T025334Z
URL:https://members.lacanadaflintridge.com/events/details/roadmap-to-recovery-guidance-for-la-small-businesses-592
END:VEVENT

END:VCALENDAR
