BEGIN:VCALENDAR
VERSION:2.0
PRODID:-//ChamberMaster//Event Calendar 2.0//EN
METHOD:PUBLISH
X-PUBLISHED-TTL:P3D
REFRESH-INTERVAL:P3D
CALSCALE:GREGORIAN
BEGIN:VEVENT
DTSTART:20251208T220000Z
DTEND:20251208T230000Z
X-MICROSOFT-CDO-ALLDAYEVENT:FALSE
SUMMARY:Ribbon Cutting Event - Flintridge Italian Deli & Pizza Co.
DESCRIPTION:
X-ALT-DESC;FMTTYPE=text/html:
LOCATION:Flintridge Italian Deli & Pizza Co. 456 Foothill Blvd.\, LCF www.flintridgepizzakitchen.com
UID:e.2663.1880
SEQUENCE:3
DTSTAMP:20260424T233839Z
URL:https://members.lacanadaflintridge.com/events/details/ribbon-cutting-event-flintridge-italian-deli-pizza-co-1880
END:VEVENT

END:VCALENDAR
