BEGIN:VCALENDAR
VERSION:2.0
PRODID:-//ChamberMaster//Event Calendar 2.0//EN
METHOD:PUBLISH
X-PUBLISHED-TTL:P3D
REFRESH-INTERVAL:P3D
CALSCALE:GREGORIAN
BEGIN:VEVENT
DTSTART:20251016T003000Z
DTEND:20251016T013000Z
X-MICROSOFT-CDO-ALLDAYEVENT:FALSE
SUMMARY:Ribbon Cutting Ceremony - Jung Kwan Jang
DESCRIPTION:
X-ALT-DESC;FMTTYPE=text/html:
LOCATION:3134 1/2 Foothill Blvd.\, La Crescenta (next to ACE Hardware)
UID:e.2663.1874
SEQUENCE:3
DTSTAMP:20260421T195409Z
URL:https://members.lacanadaflintridge.com/events/details/ribbon-cutting-ceremony-jung-kwan-jang-1874
END:VEVENT

END:VCALENDAR
