BEGIN:VCALENDAR
VERSION:2.0
PRODID:-//ChamberMaster//Event Calendar 2.0//EN
METHOD:PUBLISH
X-PUBLISHED-TTL:P3D
REFRESH-INTERVAL:P3D
CALSCALE:GREGORIAN
BEGIN:VEVENT
DTSTART:20260326T010000Z
DTEND:20260326T030000Z
X-MICROSOFT-CDO-ALLDAYEVENT:FALSE
SUMMARY:Los Gringos Royal Court Guacamole Night
DESCRIPTION:
X-ALT-DESC;FMTTYPE=text/html:
LOCATION:Los Gringos Locos 631 Foothill Blvd.\, LCF 91011
UID:e.2663.1920
SEQUENCE:3
DTSTAMP:20260424T173548Z
URL:https://members.lacanadaflintridge.com/events/details/los-gringos-royal-court-guacamole-night-1920
END:VEVENT

END:VCALENDAR
