BEGIN:VCALENDAR
VERSION:2.0
PRODID:-//ChamberMaster//Event Calendar 2.0//EN
METHOD:PUBLISH
X-PUBLISHED-TTL:P3D
REFRESH-INTERVAL:P3D
CALSCALE:GREGORIAN
BEGIN:VEVENT
DTSTART:20241012T170000Z
DTEND:20241012T220000Z
X-MICROSOFT-CDO-ALLDAYEVENT:FALSE
SUMMARY:Invisalign Day
DESCRIPTION:Join us for the fun and educational event we are hosting October 12th \, 10 AM to 3PM . Join us for the Invisalign fun and educational day \, we hosting on October 12th from 10 to 3 pm . Take advantage of the complimentary food and beverage while you get your scan and can see your before and after smile . We offer the lowest cost of Invisalign $3999 or $222/ month with 0% interest to the first 10 patients who RSVP before OCT 1st .
X-ALT-DESC;FMTTYPE=text/html:Join us for the fun and educational event we are hosting October 12th \, 10 AM to 3PM . Join us for the Invisalign fun and educational day \, we hosting on October 12th from 10 to 3 pm . Take advantage of the complimentary food and beverage while you get your scan and can see your before and after smile . We offer the lowest cost of Invisalign $3999 or $222/ month with 0% interest to the first 10 patients who RSVP before OCT 1st .
LOCATION:1035 foothill blvd La Canada Flintridge\, 91011
UID:e.2663.1654
SEQUENCE:3
DTSTAMP:20260421T112839Z
URL:https://members.lacanadaflintridge.com/events/details/invisalign-day-1654
END:VEVENT

END:VCALENDAR
