BEGIN:VCALENDAR
VERSION:2.0
PRODID:-//ChamberMaster//Event Calendar 2.0//EN
METHOD:PUBLISH
X-PUBLISHED-TTL:P3D
REFRESH-INTERVAL:P3D
CALSCALE:GREGORIAN
BEGIN:VEVENT
DTSTART:20251011T150000Z
DTEND:20251011T180000Z
X-MICROSOFT-CDO-ALLDAYEVENT:FALSE
SUMMARY:FREE Document Shredding Event 8:00-11:00AM (Click for Info)
DESCRIPTION:The La Ca ada Flintridge Chamber of Commerce and Nasa Services are offering a free document/paper shredding event on Saturday\, October 11th from 8 a.m. until 11 a.m. in east parking lot of USC Verdugo Hills Hospital located at 1812 Verdugo Blvd.\n\n\n\nLimit 10 boxes/bags per customer. No film\, x-rays\, DVDs\, VHS tapes. Just paper. Please remove any binding or large clamps. Staples and small paper clips are ok. \n\n\n\nBring your sensitive\, private and confidential documents (such as pay stubs\, medical and insurance records\, old income tax returns\, and bank/mortgage statements) in your trunk or truck bed for secure on-site shredding to prevent or reduce the possibility of identity theft or fraud. The limit is a maximum of ten bankers size boxes (approx. size of 10"x12"x15") or paper bags per household (no plastic bags please). Documents with staples or paper clips are acceptable. However\, remove all papers from metal three-ring binders and/or binder clips. This event is offered free of charge local residents to assist with the destruction of their personal documents only (no x-ray film\, disks\, cassettes or other non-paper items).  \n\n\n\n There will be no walk-up shredding accepted. \n\n \n\nIf you have additional questions about the event\, please call the LCF Chamber of Commerce at 818-790-4289 or visit www.lacanadaflintridge.com.  You may also email exec@lacanadaflintridge.com for further assistance.
X-ALT-DESC;FMTTYPE=text/html:<span style="font-family:verdana\;"><span style="color:black\;">The La Ca&ntilde\;ada Flintridge Chamber of Commerce and Nasa Services are offering a free document/paper shredding event on&nbsp\;<strong>Saturday\, October 11th from 8 a.m. until 11 a.m.&nbsp\;</strong>in east parking lot of USC Verdugo Hills Hospital located at 1812 Verdugo Blvd.<br />\n<br />\nLimit 10 boxes/bags per customer. No film\, x-rays\, DVDs\, VHS tapes. Just paper. Please remove any binding or large clamps. Staples and small paper clips are ok.&nbsp\;</span><br />\n<br />\n<span style="color:black\;">Bring your sensitive\, private and confidential documents (such as pay stubs\, medical and insurance records\, old income tax returns\, and bank/mortgage statements) in your trunk or truck bed for secure on-site shredding to prevent or reduce the possibility of identity theft or fraud. The limit is a maximum of ten bankers size boxes (approx. size of 10&quot\;x12&quot\;x15&quot\;) or paper bags per household (no plastic bags please). Documents with staples or paper clips are acceptable. However\, remove all papers from metal three-ring binders and/or binder clips. This event is offered free of charge local residents to assist with the destruction of their personal documents only (no x-ray film\, disks\, cassettes or other non-paper items).&nbsp\; </span><br />\n<br />\n<span style="color:black\;">&nbsp\;There will be no walk-up shredding accepted. </span><br />\n&nbsp\;<br />\n<span style="color:black\;">If you have additional questions about the event\, please call the LCF Chamber of Commerce at 818-790-4289 or visit </span><span style="color:black\;"><a href="http://www.lacanadaflintridge.com/">www.lacanadaflintridge.com</a></span><span style="color:black\;">.&nbsp\; You may also email </span><span style="color:black\;"><a href="mailto:exec@lacanadaflintridge.com">exec@lacanadaflintridge.com</a></span></span><span style="color:black\;"><span style="font-family:georgia\,serif\;"><span style="font-family:verdana\;"> for further assistance.</span></span></span><br />\n<br />\n<br />\n<br />\n<br />\n<br />\n&nbsp\;
LOCATION:USC Verdugo Hills Hospital 1812 Verdugo Blvd. Glendale\, CA 91208 East Parking Lot
UID:e.2663.1854
SEQUENCE:3
DTSTAMP:20260421T194827Z
URL:https://members.lacanadaflintridge.com/events/details/free-document-shredding-event-8-00-11-00am-click-for-info-10-12-2025-1854
END:VEVENT

END:VCALENDAR
