BEGIN:VCALENDAR
VERSION:2.0
PRODID:-//ChamberMaster//Event Calendar 2.0//EN
METHOD:PUBLISH
X-PUBLISHED-TTL:P3D
REFRESH-INTERVAL:P3D
CALSCALE:GREGORIAN
BEGIN:VEVENT
DTSTART:20230904T160000Z
DTEND:20230904T230000Z
X-MICROSOFT-CDO-ALLDAYEVENT:FALSE
SUMMARY:LCF Chamber Closed in Observance of Labor Day
DESCRIPTION:
X-ALT-DESC;FMTTYPE=text/html:
LOCATION:
UID:e.2663.335
SEQUENCE:3
DTSTAMP:20260420T202335Z
URL:https://members.lacanadaflintridge.com/events/details/chamber-closed-in-observance-of-labor-day-09-04-2023-335
END:VEVENT

END:VCALENDAR
