BEGIN:VCALENDAR
VERSION:2.0
PRODID:-//ChamberMaster//Event Calendar 2.0//EN
METHOD:PUBLISH
X-PUBLISHED-TTL:P3D
REFRESH-INTERVAL:P3D
CALSCALE:GREGORIAN
BEGIN:VEVENT
DTSTART:20260619T010000Z
DTEND:20260619T030000Z
X-MICROSOFT-CDO-ALLDAYEVENT:FALSE
SUMMARY:Business Networking Mixer
DESCRIPTION:Graciously hosted by: Los Gringos Locos
X-ALT-DESC;FMTTYPE=text/html:<strong style="font-size: 18px\;"><em><span style="font-family: &quot\;times new roman&quot\;\;">Graciously hosted by: Los Gringos Locos</span></em></strong><br />\n<br />\n<br />\n<br />\n<br />\n<br />\n&nbsp\;
LOCATION:Los Gringos Locos 631 Foothill Blvd. La Ca ada Flintridge\, CA 91011
UID:e.2663.1897
SEQUENCE:3
DTSTAMP:20260424T204056Z
URL:https://members.lacanadaflintridge.com/events/details/business-networking-mixer-06-18-2026-1897
END:VEVENT

END:VCALENDAR
