BEGIN:VCALENDAR
VERSION:2.0
PRODID:-//ChamberMaster//Event Calendar 2.0//EN
METHOD:PUBLISH
X-PUBLISHED-TTL:P3D
REFRESH-INTERVAL:P3D
CALSCALE:GREGORIAN
BEGIN:VEVENT
DTSTART:20260525T180000Z
DTEND:20260525T190000Z
X-MICROSOFT-CDO-ALLDAYEVENT:FALSE
SUMMARY:2026 Memorial Day Parade
DESCRIPTION:
X-ALT-DESC;FMTTYPE=text/html:
LOCATION:Foothill Boulevard in La Ca ada Flintridge Grand Marshal Retired U.S. Marine Corps Dr. Joe Puglia Parade Theme - "America 250 Red\, White & Blue"
UID:e.2663.1815
SEQUENCE:3
DTSTAMP:20260424T094308Z
URL:https://members.lacanadaflintridge.com/events/details/2026-memorial-day-parade-1815
END:VEVENT

END:VCALENDAR
